Package: MetaboDynamics Version: 0.99.18 Command: rm -rf MetaboDynamics.buildbin-libdir && mkdir MetaboDynamics.buildbin-libdir && E:\biocbuild\bbs-3.21-bioc\R\bin\R.exe CMD INSTALL --build --library=MetaboDynamics.buildbin-libdir MetaboDynamics_0.99.18.tar.gz StartedAt: 2025-02-10 08:06:13 -0500 (Mon, 10 Feb 2025) EndedAt: 2025-02-10 08:09:50 -0500 (Mon, 10 Feb 2025) EllapsedTime: 217.3 seconds RetCode: 0 Status: OK PackageFile: MetaboDynamics_0.99.18.zip PackageFileSize: 2.483 MiB