Package: MetaboDynamics Version: 0.99.18 Command: chmod a+r MetaboDynamics -R && E:\biocbuild\bbs-3.21-bioc\R\bin\R.exe CMD build --keep-empty-dirs --no-resave-data MetaboDynamics StartedAt: 2025-02-09 19:45:18 -0500 (Sun, 09 Feb 2025) EndedAt: 2025-02-09 19:53:59 -0500 (Sun, 09 Feb 2025) EllapsedTime: 520.8 seconds RetCode: 0 Status: OK PackageFile: MetaboDynamics_0.99.18.tar.gz PackageFileSize: 1.425 MiB