Package: MetaboDynamics Version: 0.99.18 Command: E:\biocbuild\bbs-3.21-bioc\R\bin\R.exe CMD INSTALL MetaboDynamics StartedAt: 2025-02-04 15:48:17 -0500 (Tue, 04 Feb 2025) EndedAt: 2025-02-04 15:53:40 -0500 (Tue, 04 Feb 2025) EllapsedTime: 322.7 seconds RetCode: 0 Status: OK