Package: MetaboSignal Version: 1.37.0 Command: /home/biocbuild/R/R/bin/R CMD build --keep-empty-dirs --no-resave-data MetaboSignal StartedAt: 2025-01-29 00:08:31 -0000 (Wed, 29 Jan 2025) EndedAt: 2025-01-29 00:10:35 -0000 (Wed, 29 Jan 2025) EllapsedTime: 124.1 seconds RetCode: 0 Status: OK PackageFile: MetaboSignal_1.37.0.tar.gz PackageFileSize: 2.137 MiB