Package: MetaboSignal Version: 1.37.0 Command: /home/biocbuild/R/R/bin/R CMD INSTALL MetaboSignal StartedAt: 2025-01-29 20:19:24 -0000 (Wed, 29 Jan 2025) EndedAt: 2025-01-29 20:20:36 -0000 (Wed, 29 Jan 2025) EllapsedTime: 72.0 seconds RetCode: 0 Status: OK