Package: MetaboSignal Version: 1.37.0 Command: E:\biocbuild\bbs-3.21-bioc\R\bin\R.exe CMD INSTALL MetaboSignal StartedAt: 2025-02-09 16:29:12 -0500 (Sun, 09 Feb 2025) EndedAt: 2025-02-09 16:30:25 -0500 (Sun, 09 Feb 2025) EllapsedTime: 72.9 seconds RetCode: 0 Status: OK