Package: MethPed Version: 1.35.0 Command: /Library/Frameworks/R.framework/Resources/bin/R CMD build --keep-empty-dirs --no-resave-data MethPed StartedAt: 2025-02-09 16:52:18 -0500 (Sun, 09 Feb 2025) EndedAt: 2025-02-09 16:53:04 -0500 (Sun, 09 Feb 2025) EllapsedTime: 46.5 seconds RetCode: 0 Status: OK PackageFile: MethPed_1.35.0.tar.gz PackageFileSize: 9.29 MiB