Package: MethPed Version: 1.35.0 Command: rm -rf MethPed.buildbin-libdir && mkdir MethPed.buildbin-libdir && E:\biocbuild\bbs-3.21-bioc\R\bin\R.exe CMD INSTALL --build --library=MethPed.buildbin-libdir MethPed_1.35.0.tar.gz StartedAt: 2025-02-10 08:07:00 -0500 (Mon, 10 Feb 2025) EndedAt: 2025-02-10 08:07:11 -0500 (Mon, 10 Feb 2025) EllapsedTime: 10.9 seconds RetCode: 0 Status: OK PackageFile: MethPed_1.35.0.zip PackageFileSize: 9.221 MiB