Package: MethReg Version: 1.17.0 Command: /Library/Frameworks/R.framework/Resources/bin/R CMD build --keep-empty-dirs --no-resave-data MethReg StartedAt: 2025-02-12 16:52:29 -0500 (Wed, 12 Feb 2025) EndedAt: 2025-02-12 16:57:10 -0500 (Wed, 12 Feb 2025) EllapsedTime: 281.0 seconds RetCode: 0 Status: OK PackageFile: MethReg_1.17.0.tar.gz PackageFileSize: 5.385 MiB