Package: MethReg Version: 1.17.0 Command: /Library/Frameworks/R.framework/Resources/bin/R CMD INSTALL MethReg StartedAt: 2025-02-12 15:27:45 -0500 (Wed, 12 Feb 2025) EndedAt: 2025-02-12 15:28:07 -0500 (Wed, 12 Feb 2025) EllapsedTime: 21.6 seconds RetCode: 0 Status: OK