Package: MethReg Version: 1.17.0 Command: /home/biocbuild/R/R/bin/R CMD check --install=check:MethReg.install-out.txt --library=/home/biocbuild/R/R/site-library --no-vignettes --timings MethReg_1.17.0.tar.gz StartedAt: 2025-01-28 12:17:06 -0000 (Tue, 28 Jan 2025) EndedAt: 2025-01-28 12:28:59 -0000 (Tue, 28 Jan 2025) EllapsedTime: 713.7 seconds RetCode: 0 Status: OK CheckDir: MethReg.Rcheck Warnings: 0