Package: MethReg Version: 1.17.0 Command: /home/biocbuild/bbs-3.21-bioc/R/bin/R CMD build --keep-empty-dirs --no-resave-data MethReg StartedAt: 2025-02-12 17:59:01 -0500 (Wed, 12 Feb 2025) EndedAt: 2025-02-12 18:08:26 -0500 (Wed, 12 Feb 2025) EllapsedTime: 564.5 seconds RetCode: 0 Status: OK PackageFile: MethReg_1.17.0.tar.gz PackageFileSize: 5.198 MiB