Package: MethReg Version: 1.17.0 Command: rm -rf MethReg.buildbin-libdir && mkdir MethReg.buildbin-libdir && E:\biocbuild\bbs-3.21-bioc\R\bin\R.exe CMD INSTALL --build --library=MethReg.buildbin-libdir MethReg_1.17.0.tar.gz StartedAt: 2025-02-10 08:07:03 -0500 (Mon, 10 Feb 2025) EndedAt: 2025-02-10 08:08:12 -0500 (Mon, 10 Feb 2025) EllapsedTime: 68.8 seconds RetCode: 0 Status: OK PackageFile: MethReg_1.17.0.zip PackageFileSize: 4.17 MiB