Package: MethylAid Version: 1.41.0 Command: /Library/Frameworks/R.framework/Resources/bin/R CMD INSTALL MethylAid StartedAt: 2025-02-09 15:27:01 -0500 (Sun, 09 Feb 2025) EndedAt: 2025-02-09 15:27:20 -0500 (Sun, 09 Feb 2025) EllapsedTime: 19.0 seconds RetCode: 0 Status: OK