Package: MethylAid Version: 1.41.0 Command: /home/biocbuild/R/R/bin/R CMD build --keep-empty-dirs --no-resave-data MethylAid StartedAt: 2025-01-29 00:11:41 -0000 (Wed, 29 Jan 2025) EndedAt: 2025-01-29 00:21:08 -0000 (Wed, 29 Jan 2025) EllapsedTime: 567.2 seconds RetCode: 0 Status: OK PackageFile: MethylAid_1.41.0.tar.gz PackageFileSize: 3.009 MiB