Package: MethylAid Version: 1.41.0 Command: /home/biocbuild/R/R/bin/R CMD INSTALL MethylAid StartedAt: 2025-01-29 20:32:31 -0000 (Wed, 29 Jan 2025) EndedAt: 2025-01-29 20:33:35 -0000 (Wed, 29 Jan 2025) EllapsedTime: 64.2 seconds RetCode: 0 Status: OK