Package: MethylAid Version: 1.41.0 Command: /Library/Frameworks/R.framework/Resources/bin/R CMD build --keep-empty-dirs --no-resave-data MethylAid StartedAt: 2025-02-09 17:23:33 -0500 (Sun, 09 Feb 2025) EndedAt: 2025-02-09 17:29:14 -0500 (Sun, 09 Feb 2025) EllapsedTime: 341.5 seconds RetCode: 0 Status: OK PackageFile: MethylAid_1.41.0.tar.gz PackageFileSize: 3.013 MiB