Package: MethylAid Version: 1.41.0 Command: /Library/Frameworks/R.framework/Resources/bin/R CMD check --install=check:MethylAid.install-out.txt --library=/Library/Frameworks/R.framework/Resources/library --no-vignettes --timings MethylAid_1.41.0.tar.gz StartedAt: 2025-02-09 21:48:53 -0500 (Sun, 09 Feb 2025) EndedAt: 2025-02-09 22:02:11 -0500 (Sun, 09 Feb 2025) EllapsedTime: 798.4 seconds RetCode: 0 Status: OK CheckDir: MethylAid.Rcheck Warnings: 0