Package: MethylAid Version: 1.41.0 Command: /Library/Frameworks/R.framework/Resources/bin/R CMD INSTALL MethylAid StartedAt: 2025-02-09 15:43:01 -0500 (Sun, 09 Feb 2025) EndedAt: 2025-02-09 15:44:04 -0500 (Sun, 09 Feb 2025) EllapsedTime: 63.4 seconds RetCode: 0 Status: OK