Package: MethylAid Version: 1.41.0 Command: /home/biocbuild/bbs-3.21-bioc/R/bin/R CMD build --keep-empty-dirs --no-resave-data MethylAid StartedAt: 2025-02-09 18:02:51 -0500 (Sun, 09 Feb 2025) EndedAt: 2025-02-09 18:05:33 -0500 (Sun, 09 Feb 2025) EllapsedTime: 162.1 seconds RetCode: 0 Status: OK PackageFile: MethylAid_1.41.0.tar.gz PackageFileSize: 3.013 MiB