Package: MethylAid Version: 1.41.0 Command: /home/biocbuild/bbs-3.21-bioc/R/bin/R CMD check --install=check:MethylAid.install-out.txt --library=/home/biocbuild/bbs-3.21-bioc/R/site-library --timings MethylAid_1.41.0.tar.gz StartedAt: 2025-02-09 23:59:09 -0500 (Sun, 09 Feb 2025) EndedAt: 2025-02-10 00:10:46 -0500 (Mon, 10 Feb 2025) EllapsedTime: 696.7 seconds RetCode: 0 Status: OK CheckDir: MethylAid.Rcheck Warnings: 0