Package: MethylAid Version: 1.41.0 Command: /home/biocbuild/bbs-3.21-bioc/R/bin/R CMD INSTALL MethylAid StartedAt: 2025-02-09 15:41:38 -0500 (Sun, 09 Feb 2025) EndedAt: 2025-02-09 15:42:26 -0500 (Sun, 09 Feb 2025) EllapsedTime: 47.9 seconds RetCode: 0 Status: OK