Package: MethylAid Version: 1.41.0 Command: rm -rf MethylAid.buildbin-libdir && mkdir MethylAid.buildbin-libdir && E:\biocbuild\bbs-3.21-bioc\R\bin\R.exe CMD INSTALL --build --library=MethylAid.buildbin-libdir MethylAid_1.41.0.tar.gz StartedAt: 2025-02-10 08:07:14 -0500 (Mon, 10 Feb 2025) EndedAt: 2025-02-10 08:08:19 -0500 (Mon, 10 Feb 2025) EllapsedTime: 64.4 seconds RetCode: 0 Status: OK PackageFile: MethylAid_1.41.0.zip PackageFileSize: 3.281 MiB