Package: MethylAid Version: 1.41.0 Command: chmod a+r MethylAid -R && E:\biocbuild\bbs-3.21-bioc\R\bin\R.exe CMD build --keep-empty-dirs --no-resave-data MethylAid StartedAt: 2025-02-09 19:48:07 -0500 (Sun, 09 Feb 2025) EndedAt: 2025-02-09 19:55:39 -0500 (Sun, 09 Feb 2025) EllapsedTime: 452.2 seconds RetCode: 0 Status: OK PackageFile: MethylAid_1.41.0.tar.gz PackageFileSize: 3.015 MiB