Package: MethylAid Version: 1.41.0 Command: E:\biocbuild\bbs-3.21-bioc\R\bin\R.exe CMD INSTALL MethylAid StartedAt: 2025-02-09 16:58:17 -0500 (Sun, 09 Feb 2025) EndedAt: 2025-02-09 16:59:15 -0500 (Sun, 09 Feb 2025) EllapsedTime: 58.1 seconds RetCode: 0 Status: OK