Package: MethylSeekR Version: 1.47.0 Maintainer: Lukas Burger MaintainerEmail: Lukas.Burger at fmi.ch git_url: https://git.bioconductor.org/packages/MethylSeekR git_branch: devel git_last_commit: bd272df git_last_commit_date: 2024-10-29 09:44:24 -0500 (Tue, 29 Oct 2024)