Package: MethylSeekR Version: 1.47.0 Command: /home/biocbuild/R/R/bin/R CMD build --keep-empty-dirs --no-resave-data MethylSeekR StartedAt: 2025-01-29 00:15:20 -0000 (Wed, 29 Jan 2025) EndedAt: 2025-01-29 00:17:59 -0000 (Wed, 29 Jan 2025) EllapsedTime: 159.0 seconds RetCode: 0 Status: OK PackageFile: MethylSeekR_1.47.0.tar.gz PackageFileSize: 1.59 MiB