Package: MethylSeekR Version: 1.47.0 Command: rm -rf MethylSeekR.buildbin-libdir && mkdir MethylSeekR.buildbin-libdir && /Users/biocbuild/BBS/utils/build-universal.sh MethylSeekR_1.47.0.tar.gz /Library/Frameworks/R.framework/Resources/bin/R MethylSeekR.buildbin-libdir StartedAt: 2025-02-10 01:02:09 -0500 (Mon, 10 Feb 2025) EndedAt: 2025-02-10 01:02:55 -0500 (Mon, 10 Feb 2025) EllapsedTime: 46.0 seconds RetCode: 0 Status: OK PackageFile: MethylSeekR_1.47.0.tgz PackageFileSize: 1.656 MiB