Package: MethylSeekR Version: 1.47.0 Command: /Library/Frameworks/R.framework/Resources/bin/R CMD build --keep-empty-dirs --no-resave-data MethylSeekR StartedAt: 2025-02-12 17:20:42 -0500 (Wed, 12 Feb 2025) EndedAt: 2025-02-12 17:22:36 -0500 (Wed, 12 Feb 2025) EllapsedTime: 114.0 seconds RetCode: 0 Status: OK PackageFile: MethylSeekR_1.47.0.tar.gz PackageFileSize: 1.594 MiB