Package: MethylSeekR Version: 1.47.0 Command: /Library/Frameworks/R.framework/Resources/bin/R CMD check --install=check:MethylSeekR.install-out.txt --library=/Library/Frameworks/R.framework/Resources/library --no-vignettes --timings MethylSeekR_1.47.0.tar.gz StartedAt: 2025-02-09 21:51:06 -0500 (Sun, 09 Feb 2025) EndedAt: 2025-02-09 21:58:04 -0500 (Sun, 09 Feb 2025) EllapsedTime: 418.4 seconds RetCode: 0 Status: OK CheckDir: MethylSeekR.Rcheck Warnings: 0