Package: MethylSeekR Version: 1.47.0 Command: /Library/Frameworks/R.framework/Resources/bin/R CMD INSTALL MethylSeekR StartedAt: 2025-02-12 15:20:01 -0500 (Wed, 12 Feb 2025) EndedAt: 2025-02-12 15:20:43 -0500 (Wed, 12 Feb 2025) EllapsedTime: 41.4 seconds RetCode: 0 Status: OK