Package: MethylSeekR Version: 1.47.0 Command: /home/biocbuild/bbs-3.21-bioc/R/bin/R CMD build --keep-empty-dirs --no-resave-data MethylSeekR StartedAt: 2025-02-09 18:05:07 -0500 (Sun, 09 Feb 2025) EndedAt: 2025-02-09 18:06:57 -0500 (Sun, 09 Feb 2025) EllapsedTime: 109.1 seconds RetCode: 0 Status: OK PackageFile: MethylSeekR_1.47.0.tar.gz PackageFileSize: 1.594 MiB