Package: MethylSeekR Version: 1.47.0 Command: /home/biocbuild/bbs-3.21-bioc/R/bin/R CMD check --install=check:MethylSeekR.install-out.txt --library=/home/biocbuild/bbs-3.21-bioc/R/site-library --timings MethylSeekR_1.47.0.tar.gz StartedAt: 2025-02-10 00:03:28 -0500 (Mon, 10 Feb 2025) EndedAt: 2025-02-10 00:11:14 -0500 (Mon, 10 Feb 2025) EllapsedTime: 465.6 seconds RetCode: 0 Status: OK CheckDir: MethylSeekR.Rcheck Warnings: 0