Package: Mfuzz Version: 2.67.0 Command: rm -rf Mfuzz.buildbin-libdir && mkdir Mfuzz.buildbin-libdir && /Users/biocbuild/BBS/utils/build-universal.sh Mfuzz_2.67.0.tar.gz /Library/Frameworks/R.framework/Resources/bin/R Mfuzz.buildbin-libdir StartedAt: 2025-02-09 22:20:59 -0500 (Sun, 09 Feb 2025) EndedAt: 2025-02-09 22:21:05 -0500 (Sun, 09 Feb 2025) EllapsedTime: 6.1 seconds RetCode: 0 Status: OK PackageFile: Mfuzz_2.67.0.tgz PackageFileSize: 853.6 KiB