Package: Mfuzz Version: 2.67.0 Command: /Library/Frameworks/R.framework/Resources/bin/R CMD build --keep-empty-dirs --no-resave-data Mfuzz StartedAt: 2025-02-09 16:55:20 -0500 (Sun, 09 Feb 2025) EndedAt: 2025-02-09 16:55:32 -0500 (Sun, 09 Feb 2025) EllapsedTime: 12.1 seconds RetCode: 0 Status: OK PackageFile: Mfuzz_2.67.0.tar.gz PackageFileSize: 819.7 KiB