Package: Mfuzz Version: 2.67.0 Command: /home/biocbuild/R/R/bin/R CMD build --keep-empty-dirs --no-resave-data Mfuzz StartedAt: 2025-01-29 00:18:04 -0000 (Wed, 29 Jan 2025) EndedAt: 2025-01-29 00:18:17 -0000 (Wed, 29 Jan 2025) EllapsedTime: 13.0 seconds RetCode: 0 Status: OK PackageFile: Mfuzz_2.67.0.tar.gz PackageFileSize: 814.8 KiB