Package: Mfuzz Version: 2.67.0 Command: /home/biocbuild/R/R/bin/R CMD INSTALL Mfuzz StartedAt: 2025-01-29 19:36:00 -0000 (Wed, 29 Jan 2025) EndedAt: 2025-01-29 19:36:21 -0000 (Wed, 29 Jan 2025) EllapsedTime: 21.2 seconds RetCode: 0 Status: OK