Package: Mfuzz Version: 2.67.0 Command: rm -rf Mfuzz.buildbin-libdir && mkdir Mfuzz.buildbin-libdir && /Users/biocbuild/BBS/utils/build-universal.sh Mfuzz_2.67.0.tar.gz /Library/Frameworks/R.framework/Resources/bin/R Mfuzz.buildbin-libdir StartedAt: 2025-02-05 00:48:34 -0500 (Wed, 05 Feb 2025) EndedAt: 2025-02-05 00:48:46 -0500 (Wed, 05 Feb 2025) EllapsedTime: 11.5 seconds RetCode: 0 Status: OK PackageFile: Mfuzz_2.67.0.tgz PackageFileSize: 852.6 KiB