Package: Mfuzz Version: 2.67.0 Command: /Library/Frameworks/R.framework/Resources/bin/R CMD check --install=check:Mfuzz.install-out.txt --library=/Library/Frameworks/R.framework/Resources/library --no-vignettes --timings Mfuzz_2.67.0.tar.gz StartedAt: 2025-02-04 21:36:57 -0500 (Tue, 04 Feb 2025) EndedAt: 2025-02-04 21:37:48 -0500 (Tue, 04 Feb 2025) EllapsedTime: 51.5 seconds RetCode: 0 Status: OK CheckDir: Mfuzz.Rcheck Warnings: 0