Package: Mfuzz Version: 2.67.0 Command: E:\biocbuild\bbs-3.21-bioc\R\bin\R.exe CMD check --no-multiarch --install=check:Mfuzz.install-out.txt --library=E:\biocbuild\bbs-3.21-bioc\R\library --no-vignettes --timings Mfuzz_2.67.0.tar.gz StartedAt: 2025-02-10 02:52:09 -0500 (Mon, 10 Feb 2025) EndedAt: 2025-02-10 02:53:04 -0500 (Mon, 10 Feb 2025) EllapsedTime: 55.0 seconds RetCode: 0 Status: OK CheckDir: Mfuzz.Rcheck Warnings: 0