Package: Mfuzz Version: 2.67.0 Command: E:\biocbuild\bbs-3.21-bioc\R\bin\R.exe CMD INSTALL Mfuzz StartedAt: 2025-02-09 15:29:18 -0500 (Sun, 09 Feb 2025) EndedAt: 2025-02-09 15:29:35 -0500 (Sun, 09 Feb 2025) EllapsedTime: 16.7 seconds RetCode: 0 Status: OK