Package: MiChip Version: 1.61.0 Command: rm -rf MiChip.buildbin-libdir && mkdir MiChip.buildbin-libdir && /Users/biocbuild/BBS/utils/build-universal.sh MiChip_1.61.0.tar.gz /Library/Frameworks/R.framework/Resources/bin/R MiChip.buildbin-libdir StartedAt: 2025-02-09 22:21:05 -0500 (Sun, 09 Feb 2025) EndedAt: 2025-02-09 22:21:07 -0500 (Sun, 09 Feb 2025) EllapsedTime: 2.1 seconds RetCode: 0 Status: OK PackageFile: MiChip_1.61.0.tgz PackageFileSize: 720.4 KiB