Package: MiChip Version: 1.61.0 Command: /Library/Frameworks/R.framework/Resources/bin/R CMD check --install=check:MiChip.install-out.txt --library=/Library/Frameworks/R.framework/Resources/library --no-vignettes --timings MiChip_1.61.0.tar.gz StartedAt: 2025-02-09 20:05:42 -0500 (Sun, 09 Feb 2025) EndedAt: 2025-02-09 20:05:56 -0500 (Sun, 09 Feb 2025) EllapsedTime: 14.2 seconds RetCode: 0 Status: OK CheckDir: MiChip.Rcheck Warnings: 0