Package: MiChip Version: 1.61.0 Command: /Library/Frameworks/R.framework/Resources/bin/R CMD INSTALL MiChip StartedAt: 2025-02-12 15:01:20 -0500 (Wed, 12 Feb 2025) EndedAt: 2025-02-12 15:01:22 -0500 (Wed, 12 Feb 2025) EllapsedTime: 1.8 seconds RetCode: 0 Status: OK