Package: MiChip Version: 1.61.0 Command: /home/biocbuild/R/R/bin/R CMD build --keep-empty-dirs --no-resave-data MiChip StartedAt: 2025-01-29 00:18:55 -0000 (Wed, 29 Jan 2025) EndedAt: 2025-01-29 00:19:06 -0000 (Wed, 29 Jan 2025) EllapsedTime: 11.0 seconds RetCode: 0 Status: OK PackageFile: MiChip_1.61.0.tar.gz PackageFileSize: 643 KiB