Package: MiChip Version: 1.61.0 Command: /home/biocbuild/R/R/bin/R CMD INSTALL MiChip StartedAt: 2025-01-29 19:31:15 -0000 (Wed, 29 Jan 2025) EndedAt: 2025-01-29 19:31:26 -0000 (Wed, 29 Jan 2025) EllapsedTime: 10.5 seconds RetCode: 0 Status: OK