Package: MiChip Version: 1.61.0 Command: rm -rf MiChip.buildbin-libdir && mkdir MiChip.buildbin-libdir && /Users/biocbuild/BBS/utils/build-universal.sh MiChip_1.61.0.tar.gz /Library/Frameworks/R.framework/Resources/bin/R MiChip.buildbin-libdir StartedAt: 2025-02-13 00:45:33 -0500 (Thu, 13 Feb 2025) EndedAt: 2025-02-13 00:45:40 -0500 (Thu, 13 Feb 2025) EllapsedTime: 6.9 seconds RetCode: 0 Status: OK PackageFile: MiChip_1.61.0.tgz PackageFileSize: 718.7 KiB