Package: MiChip Version: 1.61.0 Command: /Library/Frameworks/R.framework/Resources/bin/R CMD build --keep-empty-dirs --no-resave-data MiChip StartedAt: 2025-02-09 17:26:27 -0500 (Sun, 09 Feb 2025) EndedAt: 2025-02-09 17:26:47 -0500 (Sun, 09 Feb 2025) EllapsedTime: 19.4 seconds RetCode: 0 Status: OK PackageFile: MiChip_1.61.0.tar.gz PackageFileSize: 668.8 KiB