Package: MiChip Version: 1.61.0 Command: /home/biocbuild/bbs-3.21-bioc/R/bin/R CMD build --keep-empty-dirs --no-resave-data MiChip StartedAt: 2025-02-09 18:06:40 -0500 (Sun, 09 Feb 2025) EndedAt: 2025-02-09 18:06:51 -0500 (Sun, 09 Feb 2025) EllapsedTime: 10.0 seconds RetCode: 0 Status: OK PackageFile: MiChip_1.61.0.tar.gz PackageFileSize: 651.9 KiB