Package: MiChip Version: 1.61.0 Command: rm -rf MiChip.buildbin-libdir && mkdir MiChip.buildbin-libdir && E:\biocbuild\bbs-3.21-bioc\R\bin\R.exe CMD INSTALL --build --library=MiChip.buildbin-libdir MiChip_1.61.0.tar.gz StartedAt: 2025-02-13 08:19:27 -0500 (Thu, 13 Feb 2025) EndedAt: 2025-02-13 08:19:39 -0500 (Thu, 13 Feb 2025) EllapsedTime: 12.3 seconds RetCode: 0 Status: OK PackageFile: MiChip_1.61.0.zip PackageFileSize: 585.4 KiB